BEGIN:VCALENDAR
VERSION:2.0
PRODID:SchoolNow
CALSCALE:GREGORIAN
BEGIN:VEVENT
UID:08f2a48e-25cf-11ea-97a7-22000a97d21c
DTSTAMP:20200508T003241Z
SUMMARY:Lodge Hours 12pm-6pm
URL;VALUE=URI:https://www.wildernesslakecdd.org/calendar/2165618/lodge-hour
 s-12pm-6pm
DTSTART:20200907T160000Z
DTEND:20200907T220000Z
END:VEVENT
END:VCALENDAR
