BEGIN:VCALENDAR
VERSION:2.0
PRODID:SchoolNow
CALSCALE:GREGORIAN
BEGIN:VEVENT
UID:08f28e7c-25cf-11ea-ba16-22000a97d21c
DTSTAMP:20200508T003241Z
SUMMARY:Labor Day BBQ
URL;VALUE=URI:https://www.wildernesslakecdd.org/calendar/2165617/labor-day-
 bbq
DTSTART:20200905T170000Z
DTEND:20200905T190000Z
END:VEVENT
END:VCALENDAR
