BEGIN:VCALENDAR
VERSION:2.0
PRODID:SchoolNow
CALSCALE:GREGORIAN
BEGIN:VEVENT
UID:08f277ac-25cf-11ea-bcab-22000a97d21c
DTSTAMP:20200905T205047Z
SUMMARY:WLP Drive-In Movie
URL;VALUE=URI:https://www.wildernesslakecdd.org/calendar/2165616/movie-on-t
 he-lawn-and-food-truck-rally
DTSTART:20200919T220000Z
DTEND:20200920T010000Z
END:VEVENT
END:VCALENDAR
