BEGIN:VCALENDAR
VERSION:2.0
PRODID:SchoolNow
CALSCALE:GREGORIAN
BEGIN:VEVENT
UID:08f25fe2-25cf-11ea-a505-22000a97d21c
DTSTAMP:20200508T003241Z
SUMMARY:Oktoberfest Party
URL;VALUE=URI:https://www.wildernesslakecdd.org/calendar/2165615/oktoberfes
 t-party
DTSTART:20200925T223000Z
DTEND:20200926T003000Z
END:VEVENT
END:VCALENDAR
