BEGIN:VCALENDAR
VERSION:2.0
PRODID:SchoolNow
CALSCALE:GREGORIAN
BEGIN:VEVENT
UID:08f23378-25cf-11ea-91b2-22000a97d21c
DTSTAMP:20200508T003241Z
SUMMARY:Fall Festival
URL;VALUE=URI:https://www.wildernesslakecdd.org/calendar/2165613/fall-festi
 val
DTSTART:20201017T160000Z
DTEND:20201017T200000Z
END:VEVENT
END:VCALENDAR
