BEGIN:VCALENDAR
VERSION:2.0
PRODID:SchoolNow
CALSCALE:GREGORIAN
BEGIN:VEVENT
UID:08f21d70-25cf-11ea-b9ce-22000a97d21c
DTSTAMP:20200920T184746Z
SUMMARY:Haunted House - Kid Friendly
URL;VALUE=URI:https://www.wildernesslakecdd.org/calendar/2165612/haunted-ho
 use
DTSTART:20201023T230000Z
DTEND:20201024T003000Z
END:VEVENT
END:VCALENDAR
