BEGIN:VCALENDAR
VERSION:2.0
PRODID:SchoolNow
CALSCALE:GREGORIAN
BEGIN:VEVENT
UID:08f20632-25cf-11ea-9cb1-22000a97d21c
DTSTAMP:20200508T003241Z
SUMMARY:Haunted House
URL;VALUE=URI:https://www.wildernesslakecdd.org/calendar/2165611/haunted-ho
 use
DTSTART:20201024T230000Z
DTEND:20201025T010000Z
END:VEVENT
END:VCALENDAR
