BEGIN:VCALENDAR
VERSION:2.0
PRODID:SchoolNow
CALSCALE:GREGORIAN
BEGIN:VEVENT
UID:08f09bbc-25cf-11ea-8c97-22000a97d21c
DTSTAMP:20200508T003241Z
SUMMARY:Kids Costume Parade
URL;VALUE=URI:https://www.wildernesslakecdd.org/calendar/2165609/kids-costu
 me-parade
DTSTART:20201031T213000Z
DTEND:20201031T223000Z
END:VEVENT
END:VCALENDAR
