BEGIN:VCALENDAR
VERSION:2.0
PRODID:SchoolNow
CALSCALE:GREGORIAN
BEGIN:VEVENT
UID:08f0856e-25cf-11ea-bbfb-22000a97d21c
DTSTAMP:20200508T003241Z
SUMMARY:Puppies and Pumpkins
URL;VALUE=URI:https://www.wildernesslakecdd.org/calendar/2165608/puppies-an
 d-pumpkins
DTSTART:20201030T223000Z
DTEND:20201030T233000Z
END:VEVENT
END:VCALENDAR
