BEGIN:VCALENDAR
VERSION:2.0
PRODID:SchoolNow
CALSCALE:GREGORIAN
BEGIN:VEVENT
UID:08f0540e-25cf-11ea-bfb2-22000a97d21c
DTSTAMP:20200508T003241Z
SUMMARY:Trivia Night
URL;VALUE=URI:https://www.wildernesslakecdd.org/calendar/2165606/trivia-nig
 ht
DTSTART:20201120T233000Z
DTEND:20201121T013000Z
END:VEVENT
END:VCALENDAR
