BEGIN:VCALENDAR
VERSION:2.0
PRODID:SchoolNow
CALSCALE:GREGORIAN
BEGIN:VEVENT
UID:08f03df2-25cf-11ea-8300-22000a97d21c
DTSTAMP:20200508T003241Z
SUMMARY:Lodge Closed
URL;VALUE=URI:https://www.wildernesslakecdd.org/calendar/2165605/lodge-clos
 ed
DTSTART;VALUE=DATE:20201126
DTEND;VALUE=DATE:20201127
END:VEVENT
END:VCALENDAR
