BEGIN:VCALENDAR
VERSION:2.0
PRODID:SchoolNow
CALSCALE:GREGORIAN
BEGIN:VEVENT
UID:08f026d2-25cf-11ea-a545-22000a97d21c
DTSTAMP:20200508T003241Z
SUMMARY:Lodge Hours 9am-3pm
URL;VALUE=URI:https://www.wildernesslakecdd.org/calendar/2165604/lodge-hour
 s-9am-3pm
DTSTART:20201125T140000Z
DTEND:20201125T200000Z
END:VEVENT
END:VCALENDAR
