BEGIN:VCALENDAR
VERSION:2.0
PRODID:SchoolNow
CALSCALE:GREGORIAN
BEGIN:VEVENT
UID:08f010c0-25cf-11ea-a66d-22000a97d21c
DTSTAMP:20201109T161815Z
SUMMARY:Lodge Hours
URL;VALUE=URI:https://www.wildernesslakecdd.org/calendar/2165603/lodge-hour
 s
DTSTART:20201127T170000Z
DTEND:20201128T010000Z
END:VEVENT
END:VCALENDAR
