BEGIN:VCALENDAR
VERSION:2.0
PRODID:SchoolNow
CALSCALE:GREGORIAN
BEGIN:VEVENT
UID:08effa5e-25cf-11ea-9c0a-22000a97d21c
DTSTAMP:20200508T003241Z
SUMMARY:Santa's Arrival
URL;VALUE=URI:https://www.wildernesslakecdd.org/calendar/2165602/santas-arr
 ival
DTSTART:20201205T210000Z
DTEND:20201206T010000Z
END:VEVENT
END:VCALENDAR
