BEGIN:VCALENDAR
VERSION:2.0
PRODID:SchoolNow
CALSCALE:GREGORIAN
BEGIN:VEVENT
UID:08efe44c-25cf-11ea-94f3-22000a97d21c
DTSTAMP:20200508T003241Z
SUMMARY:Lighting of the Menorah
URL;VALUE=URI:https://www.wildernesslakecdd.org/calendar/2165601/lighting-o
 f-the-menorah
DTSTART:20201210T230000Z
DTEND:20201211T010000Z
END:VEVENT
END:VCALENDAR
