BEGIN:VCALENDAR
VERSION:2.0
PRODID:SchoolNow
CALSCALE:GREGORIAN
BEGIN:VEVENT
UID:08efcdc2-25cf-11ea-b75f-22000a97d21c
DTSTAMP:20200508T003240Z
SUMMARY:Gingerbread House Workshop
URL;VALUE=URI:https://www.wildernesslakecdd.org/calendar/2165600/gingerbrea
 d-house-workshop
DTSTART:20201212T160000Z
DTEND:20201212T180000Z
END:VEVENT
END:VCALENDAR
