BEGIN:VCALENDAR
VERSION:2.0
PRODID:SchoolNow
CALSCALE:GREGORIAN
BEGIN:VEVENT
UID:08efb30a-25cf-11ea-89f1-22000a97d21c
DTSTAMP:20200508T003240Z
SUMMARY:Breakfast with Santa
URL;VALUE=URI:https://www.wildernesslakecdd.org/calendar/2165599/breakfast-
 with-santa
DTSTART:20201219T150000Z
DTEND:20201219T170000Z
END:VEVENT
END:VCALENDAR
