BEGIN:VCALENDAR
VERSION:2.0
PRODID:SchoolNow
CALSCALE:GREGORIAN
BEGIN:VEVENT
UID:08ef9ca8-25cf-11ea-8e67-22000a97d21c
DTSTAMP:20201214T222551Z
SUMMARY:Lodge Holiday Hours - Closed
URL;VALUE=URI:https://www.wildernesslakecdd.org/calendar/2165598/lodge-clos
 ed
DTSTART;VALUE=DATE:20201225
DTEND;VALUE=DATE:20201226
END:VEVENT
END:VCALENDAR
