BEGIN:VCALENDAR
VERSION:2.0
PRODID:SchoolNow
CALSCALE:GREGORIAN
BEGIN:VEVENT
UID:08ef84d4-25cf-11ea-a0ba-22000a97d21c
DTSTAMP:20201214T221743Z
SUMMARY:Lodge Holiday Hours Hours 9 AM - 3 PM
URL;VALUE=URI:https://www.wildernesslakecdd.org/calendar/2165597/lodge-hour
 s-9am-3pm
DTSTART:20201224T140000Z
DTEND:20201224T200000Z
END:VEVENT
END:VCALENDAR
