BEGIN:VCALENDAR
VERSION:2.0
PRODID:SchoolNow
CALSCALE:GREGORIAN
BEGIN:VEVENT
UID:08ee3098-25cf-11ea-8623-22000a97d21c
DTSTAMP:20201231T164306Z
SUMMARY:Lodge Hours 9 AM - 12 PM
URL;VALUE=URI:https://www.wildernesslakecdd.org/calendar/2165596/lodge-hour
 s-9am-12pm
DTSTART:20201231T140000Z
DTEND:20201231T170000Z
END:VEVENT
END:VCALENDAR
