BEGIN:VCALENDAR
VERSION:2.0
PRODID:SchoolNow
CALSCALE:GREGORIAN
BEGIN:VEVENT
UID:08ee03b6-25cf-11ea-92eb-22000a97d21c
DTSTAMP:20200508T003240Z
SUMMARY:Theater Rental
LOCATION:Movie Theater
URL;VALUE=URI:https://www.wildernesslakecdd.org/calendar/2165594/theater-re
 ntal
DTSTART:20191220T150000Z
DTEND:20191220T200000Z
END:VEVENT
END:VCALENDAR
