BEGIN:VCALENDAR
VERSION:2.0
PRODID:SchoolNow
CALSCALE:GREGORIAN
BEGIN:VEVENT
UID:08ede8ea-25cf-11ea-bafd-22000a97d21c
DTSTAMP:20200508T003240Z
SUMMARY:New Year Celebration BBQ
LOCATION:Activities Center
URL;VALUE=URI:https://www.wildernesslakecdd.org/calendar/2165593/new-year-c
 elebration-bbq
DTSTART:20200104T230000Z
DTEND:20200105T013000Z
END:VEVENT
END:VCALENDAR
