BEGIN:VCALENDAR
VERSION:2.0
PRODID:SchoolNow
CALSCALE:GREGORIAN
BEGIN:VEVENT
UID:08eda25e-25cf-11ea-b91e-22000a97d21c
DTSTAMP:20200508T003240Z
SUMMARY:Chat'Hers Lunch In: Meet & Greet
LOCATION:Activities Center
URL;VALUE=URI:https://www.wildernesslakecdd.org/calendar/2165591/chathers-l
 unch-in-meet-greet
DTSTART:20200123T170000Z
DTEND:20200123T200000Z
END:VEVENT
END:VCALENDAR
