BEGIN:VCALENDAR
VERSION:2.0
PRODID:SchoolNow
CALSCALE:GREGORIAN
BEGIN:VEVENT
UID:08ed8c06-25cf-11ea-8478-22000a97d21c
DTSTAMP:20200508T003240Z
SUMMARY:Private Rental
LOCATION:Activities Center
URL;VALUE=URI:https://www.wildernesslakecdd.org/calendar/2165590/private-re
 ntal
DTSTART:20200216T170000Z
DTEND:20200216T220000Z
END:VEVENT
END:VCALENDAR
