BEGIN:VCALENDAR
VERSION:2.0
PRODID:SchoolNow
CALSCALE:GREGORIAN
BEGIN:VEVENT
UID:08ed761c-25cf-11ea-9988-22000a97d21c
DTSTAMP:20200508T003240Z
SUMMARY:Private Rental
LOCATION:Activities Center
URL;VALUE=URI:https://www.wildernesslakecdd.org/calendar/2165589/private-re
 ntal
DTSTART:20200307T150000Z
DTEND:20200307T200000Z
END:VEVENT
END:VCALENDAR
