BEGIN:VCALENDAR
VERSION:2.0
PRODID:SchoolNow
CALSCALE:GREGORIAN
BEGIN:VEVENT
UID:08ed5ff6-25cf-11ea-8239-22000a97d21c
DTSTAMP:20200508T003240Z
SUMMARY:St. Patties Day happy Hour
LOCATION:Activities Center
URL;VALUE=URI:https://www.wildernesslakecdd.org/calendar/2165588/st-patties
 -day-happy-hour
DTSTART:20200314T210000Z
DTEND:20200315T020000Z
END:VEVENT
END:VCALENDAR
