BEGIN:VCALENDAR
VERSION:2.0
PRODID:SchoolNow
CALSCALE:GREGORIAN
BEGIN:VEVENT
UID:08ed49c6-25cf-11ea-b218-22000a97d21c
DTSTAMP:20200508T003240Z
SUMMARY:Private Rental
LOCATION:Activities Center and Theater
URL;VALUE=URI:https://www.wildernesslakecdd.org/calendar/2165587/private-re
 ntal
DTSTART:20200315T180000Z
DTEND:20200315T230000Z
END:VEVENT
END:VCALENDAR
