BEGIN:VCALENDAR
VERSION:2.0
PRODID:SchoolNow
CALSCALE:GREGORIAN
BEGIN:VEVENT
UID:08ed333c-25cf-11ea-8f10-22000a97d21c
DTSTAMP:20200508T003240Z
SUMMARY:Kids Art Class
LOCATION:Activities Center
URL;VALUE=URI:https://www.wildernesslakecdd.org/calendar/2165586/kids-art-c
 lass
DTSTART:20200321T140000Z
DTEND:20200321T160000Z
END:VEVENT
END:VCALENDAR
