BEGIN:VCALENDAR
VERSION:2.0
PRODID:SchoolNow
CALSCALE:GREGORIAN
BEGIN:VEVENT
UID:08ed1bea-25cf-11ea-b318-22000a97d21c
DTSTAMP:20200508T003240Z
SUMMARY:Adult Art Class
LOCATION:Activities Center
URL;VALUE=URI:https://www.wildernesslakecdd.org/calendar/2165585/adult-art-
 class
DTSTART:20200321T180000Z
DTEND:20200321T200000Z
END:VEVENT
END:VCALENDAR
