BEGIN:VCALENDAR
VERSION:2.0
PRODID:SchoolNow
CALSCALE:GREGORIAN
BEGIN:VEVENT
UID:08ebc7a4-25cf-11ea-a8a0-22000a97d21c
DTSTAMP:20200508T003240Z
SUMMARY:Private Rental
LOCATION:Activities Center
URL;VALUE=URI:https://www.wildernesslakecdd.org/calendar/2165584/private-re
 ntal
DTSTART;VALUE=DATE:20200328
DTEND;VALUE=DATE:20200329
END:VEVENT
END:VCALENDAR
