BEGIN:VCALENDAR
VERSION:2.0
PRODID:SchoolNow
CALSCALE:GREGORIAN
BEGIN:VEVENT
UID:08eb9b08-25cf-11ea-bc74-22000a97d21c
DTSTAMP:20200508T003240Z
SUMMARY:No Rentals
URL;VALUE=URI:https://www.wildernesslakecdd.org/calendar/2165582/no-rentals
DTSTART;VALUE=DATE:20200410
DTEND;VALUE=DATE:20200411
END:VEVENT
END:VCALENDAR
