BEGIN:VCALENDAR
VERSION:2.0
PRODID:SchoolNow
CALSCALE:GREGORIAN
BEGIN:VEVENT
UID:08eb8424-25cf-11ea-a8de-22000a97d21c
DTSTAMP:20200508T003239Z
SUMMARY:Private Rental
LOCATION:Activities Center
URL;VALUE=URI:https://www.wildernesslakecdd.org/calendar/2165581/private-re
 ntal
DTSTART:20200418T210000Z
DTEND:20200419T020000Z
END:VEVENT
END:VCALENDAR
