BEGIN:VCALENDAR
VERSION:2.0
PRODID:SchoolNow
CALSCALE:GREGORIAN
BEGIN:VEVENT
UID:08eb6638-25cf-11ea-87b8-22000a97d21c
DTSTAMP:20200508T003239Z
SUMMARY:Private Rental
LOCATION:Activities Center
URL;VALUE=URI:https://www.wildernesslakecdd.org/calendar/2165580/private-re
 ntal
DTSTART:20200419T160000Z
DTEND:20200419T210000Z
END:VEVENT
END:VCALENDAR
