BEGIN:VCALENDAR
VERSION:2.0
PRODID:SchoolNow
CALSCALE:GREGORIAN
BEGIN:VEVENT
UID:08eb4342-25cf-11ea-83b4-22000a97d21c
DTSTAMP:20200508T003239Z
SUMMARY:Private Rental
LOCATION:Activities Center
URL;VALUE=URI:https://www.wildernesslakecdd.org/calendar/2165579/private-re
 ntal
DTSTART:20200425T210000Z
DTEND:20200426T020000Z
END:VEVENT
END:VCALENDAR
