BEGIN:VCALENDAR
VERSION:2.0
PRODID:SchoolNow
CALSCALE:GREGORIAN
BEGIN:VEVENT
UID:08eb2cc2-25cf-11ea-93d1-22000a97d21c
DTSTAMP:20200508T003239Z
SUMMARY:ARC Meeting
LOCATION:Main Lodge
URL;VALUE=URI:https://www.wildernesslakecdd.org/calendar/2165578/arc-meetin
 g
DTSTART:20200106T233000Z
DTEND:20200107T003000Z
END:VEVENT
END:VCALENDAR
