BEGIN:VCALENDAR
VERSION:2.0
PRODID:SchoolNow
CALSCALE:GREGORIAN
BEGIN:VEVENT
UID:08eb1408-25cf-11ea-8716-22000a97d21c
DTSTAMP:20200508T003239Z
SUMMARY:ARC Meeting
LOCATION:Main Lodge
URL;VALUE=URI:https://www.wildernesslakecdd.org/calendar/2165577/arc-meetin
 g
DTSTART:20200120T233000Z
DTEND:20200121T003000Z
END:VEVENT
END:VCALENDAR
