BEGIN:VCALENDAR
VERSION:2.0
PRODID:SchoolNow
CALSCALE:GREGORIAN
BEGIN:VEVENT
UID:08eaebb8-25cf-11ea-a8d8-22000a97d21c
DTSTAMP:20200508T003239Z
SUMMARY:Trivia Night
LOCATION:Activities Center
URL;VALUE=URI:https://www.wildernesslakecdd.org/calendar/2165576/trivia-nig
 ht
DTSTART:20200117T233000Z
DTEND:20200118T003000Z
END:VEVENT
END:VCALENDAR
