BEGIN:VCALENDAR
VERSION:2.0
PRODID:SchoolNow
CALSCALE:GREGORIAN
BEGIN:VEVENT
UID:08ead54c-25cf-11ea-ba8b-22000a97d21c
DTSTAMP:20200508T003239Z
SUMMARY:The Great Book Exchange
URL;VALUE=URI:https://www.wildernesslakecdd.org/calendar/2165575/the-great-
 book-exchange
DTSTART:20200111T153000Z
DTEND:20200111T173000Z
END:VEVENT
END:VCALENDAR
