BEGIN:VCALENDAR
VERSION:2.0
PRODID:SchoolNow
CALSCALE:GREGORIAN
BEGIN:VEVENT
UID:08eaa716-25cf-11ea-80c9-22000a97d21c
DTSTAMP:20200508T003239Z
SUMMARY:Volunteer Appreciation
URL;VALUE=URI:https://www.wildernesslakecdd.org/calendar/2165573/volunteer-
 appreciation
DTSTART;VALUE=DATE:20200110
DTEND;VALUE=DATE:20200111
END:VEVENT
END:VCALENDAR
