BEGIN:VCALENDAR
VERSION:2.0
PRODID:SchoolNow
CALSCALE:GREGORIAN
BEGIN:VEVENT
UID:08ea90b4-25cf-11ea-b4f4-22000a97d21c
DTSTAMP:20200508T003239Z
SUMMARY:Kids Art Class
LOCATION:Activities Center
URL;VALUE=URI:https://www.wildernesslakecdd.org/calendar/2165572/kids-art-c
 lass
DTSTART:20200201T150000Z
DTEND:20200201T160000Z
END:VEVENT
END:VCALENDAR
