BEGIN:VCALENDAR
VERSION:2.0
PRODID:SchoolNow
CALSCALE:GREGORIAN
BEGIN:VEVENT
UID:08ea7a3e-25cf-11ea-bc15-22000a97d21c
DTSTAMP:20200508T003239Z
SUMMARY:Adult Art Class
LOCATION:Activities Center
URL;VALUE=URI:https://www.wildernesslakecdd.org/calendar/2165571/adult-art-
 class
DTSTART:20200201T190000Z
DTEND:20200201T210000Z
END:VEVENT
END:VCALENDAR
