BEGIN:VCALENDAR
VERSION:2.0
PRODID:SchoolNow
CALSCALE:GREGORIAN
BEGIN:VEVENT
UID:08ea633c-25cf-11ea-9781-22000a97d21c
DTSTAMP:20200508T003239Z
SUMMARY:Private Rental
LOCATION:Activities Center
URL;VALUE=URI:https://www.wildernesslakecdd.org/calendar/2165570/private-re
 ntal
DTSTART:20200209T170000Z
DTEND:20200209T220000Z
END:VEVENT
END:VCALENDAR
