BEGIN:VCALENDAR
VERSION:2.0
PRODID:SchoolNow
CALSCALE:GREGORIAN
BEGIN:VEVENT
UID:08ea1116-25cf-11ea-b8c4-22000a97d21c
DTSTAMP:20200508T003239Z
SUMMARY:Trivia Night
URL;VALUE=URI:https://www.wildernesslakecdd.org/calendar/2165569/trivia-nig
 ht
DTSTART:20191227T233000Z
DTEND:20191228T013000Z
END:VEVENT
END:VCALENDAR
