BEGIN:VCALENDAR
VERSION:2.0
PRODID:SchoolNow
CALSCALE:GREGORIAN
BEGIN:VEVENT
UID:87cb4b48-fb2d-11e9-9219-0a84825ac669
DTSTAMP:20200520T153023Z
SUMMARY:CDD Board Meeting - Mar. 2020
LOCATION:The Preserve at Wilderness Lake Lodge\, located at 21320 Wildernes
 s Lake Boulevard\, Land O’ Lakes\, Florida 34637
URL;VALUE=URI:https://www.wildernesslakecdd.org/calendar/2135955/cdd-board-
 meeting-mar-2020
DTSTART:20200304T143000Z
DTEND:20200304T163000Z
ATTACH;FILENAME=2020-03-04 - Preserve @ Wilderness Lake -Final Agenda (1).p
 df;FMTTYPE=application/pdf:https://campussuite-storage.s3.amazonaws.com/pr
 od/1558874/21caec5e-ea98-11e9-8581-0a20d2c7fac4/2055846/ad14ccaa-5819-11ea
 -9a72-0aa76439923d/file/2020-03-04 - Preserve @ Wilderness Lake -Final Age
 nda (1).pdf
END:VEVENT
END:VCALENDAR
