BEGIN:VCALENDAR
VERSION:2.0
PRODID:SchoolNow
CALSCALE:GREGORIAN
BEGIN:VEVENT
UID:623e2738-fb2d-11e9-b88d-0a84825ac669
DTSTAMP:20191119T083542Z
SUMMARY:CDD Board Meeting - Feb. 2020
LOCATION:The Preserve at Wilderness Lake Lodge\, located at 21320 Wildernes
 s Lake Boulevard\, Land O’ Lakes\, Florida 34637
URL;VALUE=URI:https://www.wildernesslakecdd.org/calendar/2135953/cdd-board-
 meeting-feb-2020
DTSTART:20200205T233000Z
DTEND:20200206T013000Z
END:VEVENT
END:VCALENDAR
