BEGIN:VCALENDAR
VERSION:2.0
PRODID:SchoolNow
CALSCALE:GREGORIAN
BEGIN:VEVENT
UID:4d011a9c-fb2d-11e9-b093-0a84825ac669
DTSTAMP:20191119T083521Z
SUMMARY:CDD Board Meeting - Jan. 2020
LOCATION:The Preserve at Wilderness Lake Lodge\, located at 21320 Wildernes
 s Lake Boulevard\, Land O’ Lakes\, Florida 34637
URL;VALUE=URI:https://www.wildernesslakecdd.org/calendar/2135952/cdd-board-
 meeting-jan-2020
DTSTART:20200108T143000Z
DTEND:20200108T163000Z
END:VEVENT
END:VCALENDAR
