BEGIN:VCALENDAR
VERSION:2.0
PRODID:SchoolNow
CALSCALE:GREGORIAN
BEGIN:VEVENT
UID:f1692e4e-f65a-11e9-9cf0-0a15a28e82b1
DTSTAMP:20191119T083458Z
SUMMARY:CDD Board Meeting - Dec. 2019
LOCATION:The Preserve at Wilderness Lake Lodge\, located at 21320 Wildernes
 s Lake Boulevard\, Land O’ Lakes\, Florida 34637
URL;VALUE=URI:https://www.wildernesslakecdd.org/calendar/2130945/cdd-board-
 meeting-dec-2019
DTSTART:20191204T143000Z
DTEND:20191204T163000Z
END:VEVENT
END:VCALENDAR
