BEGIN:VCALENDAR
VERSION:2.0
PRODID:SchoolNow
CALSCALE:GREGORIAN
BEGIN:VEVENT
UID:ea9b0b7c-f656-11e9-bc2e-1251485fc71a
DTSTAMP:20191119T084757Z
SUMMARY:CDD Board Meeting - Nov. 2019
LOCATION:The Preserve at Wilderness Lake Lodge\, located at 21320 Wildernes
 s Lake Boulevard\, Land O’ Lakes\, Florida 34637
URL;VALUE=URI:https://www.wildernesslakecdd.org/calendar/2130939/cdd-board-
 meeting-nov-2019
DTSTART:20191106T233000Z
DTEND:20191107T013000Z
ATTACH;FILENAME=2019-11-06 Preserve at Wilderness Lake Final Agenda.pdf;FMT
 TYPE=application/pdf:https://campussuite-storage.s3.amazonaws.com/prod/155
 8874/21caec5e-ea98-11e9-8581-0a20d2c7fac4/2011189/9398f536-0002-11ea-8078-
 0a1dd6782433/file/2019-11-06 Preserve at Wilderness Lake Final Agenda.pdf
END:VEVENT
END:VCALENDAR
