BEGIN:VCALENDAR
VERSION:2.0
PRODID:SchoolNow
CALSCALE:GREGORIAN
BEGIN:VEVENT
UID:ac1bc6e8-f656-11e9-a4ad-1251485fc71a
DTSTAMP:20191119T084828Z
SUMMARY:CDD Board Meeting - Oct. 2019
LOCATION:The Preserve at Wilderness Lake Lodge\, located at 21320 Wildernes
 s Lake Boulevard\, Land O’ Lakes\, Florida 34637
URL;VALUE=URI:https://www.wildernesslakecdd.org/calendar/2130938/cdd-board-
 meeting-oct-2019
DTSTART:20191002T133000Z
DTEND:20191002T153000Z
END:VEVENT
END:VCALENDAR
